BEGIN:VCALENDAR
VERSION:2.0
PRODID:-//Department Of Education//fb430de2-7d46-49b2-9298-8364d83b7bef
BEGIN:VTIMEZONE
TZID:Australia/Sydney
TZURL:http://tzurl.org/zoneinfo-outlook/Australia/Sydney
X-LIC-LOCATION:Australia/Sydney
BEGIN:STANDARD
TZOFFSETFROM:+1100
TZOFFSETTO:+1000
TZNAME:AEST
DTSTART:19700405T030000
RRULE:FREQ=YEARLY;BYMONTH=4;BYDAY=1SU
END:STANDARD
BEGIN:DAYLIGHT
TZOFFSETFROM:+1000
TZOFFSETTO:+1100
TZNAME:AEDT
DTSTART:19701004T020000
RRULE:FREQ=YEARLY;BYMONTH=10;BYDAY=1SU
END:DAYLIGHT
END:VTIMEZONE
CALSCALE:GREGORIAN
X-WR-TIMEZONE:Australia/Sydney
BEGIN:VEVENT
DTSTART;TZID=Australia/Sydney:20200225T150050
DTEND;TZID=Australia/Sydney:20200225T153003
DTSTAMP:20200225T000000Z
UID:a138dcf3-e27b-4f0a-87e4-f8cb82440271
LOCATION:Classroom
SUMMARY;LANGUAGE=en-us:Years 1 & 2 Meet the Teacher
SEQUENCE:0
DESCRIPTION:Years 1 & 2 Meet the Teacher - classrooms 
END:VEVENT
TRANSP:TRANSPARENT
END:VCALENDAR
