BEGIN:VCALENDAR
VERSION:2.0
PRODID:-//Department Of Education//3d94e8a5-249e-442a-b360-f589b87fef85
BEGIN:VTIMEZONE
TZID:Australia/Sydney
TZURL:http://tzurl.org/zoneinfo-outlook/Australia/Sydney
X-LIC-LOCATION:Australia/Sydney
BEGIN:STANDARD
TZOFFSETFROM:+1100
TZOFFSETTO:+1000
TZNAME:AEST
DTSTART:19700405T030000
RRULE:FREQ=YEARLY;BYMONTH=4;BYDAY=1SU
END:STANDARD
BEGIN:DAYLIGHT
TZOFFSETFROM:+1000
TZOFFSETTO:+1100
TZNAME:AEDT
DTSTART:19701004T020000
RRULE:FREQ=YEARLY;BYMONTH=10;BYDAY=1SU
END:DAYLIGHT
END:VTIMEZONE
CALSCALE:GREGORIAN
X-WR-TIMEZONE:Australia/Sydney
BEGIN:VEVENT
DTSTART;TZID=Australia/Sydney:20200224T150059
DTEND;TZID=Australia/Sydney:20200224T163005
DTSTAMP:20200224T000000Z
UID:7b9312ed-5751-46b8-ace1-58e67bbda728
LOCATION:Classrooms and then the Hall
SUMMARY;LANGUAGE=en-us:Year 5 Meet the Teacher
SEQUENCE:0
DESCRIPTION:Year 5 Meet the Teacher Starts off in your child's classroom and then move into the Hall for whole grade information session.
END:VEVENT
TRANSP:TRANSPARENT
END:VCALENDAR
